BEGIN:VCALENDAR
VERSION:2.0
PRODID:-//www.polr.org//NONSGML kigkonsult.se iCalcreator 2.39.1//
CALSCALE:GREGORIAN
METHOD:PUBLISH
UID:1376ee85-6c39-4f9c-b50a-49a53e1f24cd
X-WR-CALNAME:www.polr.org
X-WR-CALDESC:www.polr.org
X-WR-TIMEZONE:America/Los_Angeles
X-LIC-LOCATION:America/Los_Angeles
BEGIN:VEVENT
UID:ccea8074-17f3-40d5-a8f2-1db0f366edb9
DTSTAMP:20260425T212621Z
CLASS:PUBLIC
DTSTART;TZID=America/Los_Angeles:20260426T093000
DTEND;TZID=America/Los_Angeles:20260426T101500
SUMMARY:Christian Education
TRANSP:OPAQUE
BEGIN:VALARM
ACTION:DISPLAY
DESCRIPTION:Christian Education
TRIGGER:-PT15M
END:VALARM
END:VEVENT
END:VCALENDAR
